Workbook
Name двери: Коэффициенты!#REF!
Name дверь: Коэффициенты!$B$14:$B$20
Name материал: 'СНиП II-3-79'!$C$5:$C$207
Name окно: Коэффициенты!$B$3:$B$11
Name окно2: Расчет!$I$65:$I$66
Name ориентация: Коэффициенты!$E$5:$E$12
Name прослойка: Коэффициенты!$B$25:$B$32
Name стена: Расчет!$G$65:$G$66

Sheet Расчет
B2: Расчет потерь теплоты через ограждающие конструкции помещения
B3: Источник: СНиП 2.04.05-91* приложение № 9
B5: Коэффициент теплоотдачи наружной поверхности αн, Вт/(м×оС) | H5: 20
B6: Коэффициент теплоотдачи внутренней поверхности αв, Вт/(м×оС) | H6: 8.7
B8: Сопротивление теплопередаче стены первого типа R, м2 оС/Вт
B9: № слоя | C9: Толщина, мм | D9: Наименование материала
B10: 1 | C10: 125 | D10: Кладка из кирпича глиняного обыкновенного на цементнопесчаном растворе
B11: =B10+1 -> 2 | C11: 360 | D11: Газо- и пенобетон (600 кг/м3)
B12: =B11+1 -> 3 | C12: 0 | D12: Маты минераловатные прошивные на синтетическом связующем (75 кг/м3)
B13: =B12+1 -> 4 | C13: 0 | D13: Пенопласт (100 кг/м3)
B14: =B13+1 -> 5 | C14: 0 | D14: Известково-песчаный раствор
B15: =B14+1 -> 6 | C15: 50 | D15: Воздушная прослойка
B16: R= | C16: =1/$H$6+0.001*C10/VLOOKUP(D10,'СНиП II-3-79'!$C$5:$D$207,2,FALSE)+0.001*C11/VLOOKUP(D11,'СНиП II-3-79'!$C$5:$D$207,2,FALSE)+0.001*C12/VLOOKUP(D12,'СНиП II-3-79'!$C$5:$D$207,2,FALSE)+0.001*C13/VLOOKUP(D13,'СНиП II-3-79'!$C$5:$D$207,2,FALSE)+0.001*C14/VLOOKUP(D14,'СНиП II-3-79'!$C$5:$D$207,2,FALSE)+VLOOKUP(C15,Коэффициенты!$B$25:$C$32,2,FALSE)+1/$H$5 -> 2.1498776 | D16: м2 оС/Вт | E16: ≥ 2,7 по ГСОП
B18: Сопротивление теплопередаче стены второго типа R, м2 оС/Вт
B19: № слоя | C19: Толщина, мм | D19: Наименование материала
B20: 1 | C20: 0
B21: =B20+1 -> 2 | C21: 0
B22: =B21+1 -> 3 | C22: 0
B23: =B22+1 -> 4 | C23: 0
B24: =B23+1 -> 5 | C24: 0
B25: =B24+1 -> 6 | C25: 0 | D25: Воздушная прослойка
B26: R= | C26: =1/$H$6+0.001*C20/VLOOKUP(D20,'СНиП II-3-79'!$C$5:$D$207,2,FALSE)+0.001*C21/VLOOKUP(D21,'СНиП II-3-79'!$C$5:$D$207,2,FALSE)+0.001*C22/VLOOKUP(D22,'СНиП II-3-79'!$C$5:$D$207,2,FALSE)+0.001*C23/VLOOKUP(D23,'СНиП II-3-79'!$C$5:$D$207,2,FALSE)+0.001*C24/VLOOKUP(D24,'СНиП II-3-79'!$C$5:$D$207,2,FALSE)+VLOOKUP(C25,Коэффициенты!$B$25:$C$32,2,FALSE)+1/$H$5 -> 0.16494253 | D26: м2 оС/Вт | E26: ≥ 2,7 по ГСОП
B28: Сопротивление теплопередаче потолка R, м2 оС/Вт
B29: № слоя | C29: Толщина, мм | D29: Наименование материала
B30: 1 | C30: 30 | D30: Сосна и ель поперек волокон
B31: =B30+1 -> 2 | C31: 200 | D31: Плиты минераловатные на синтетическом и битумном связующих (300 кг/м3)
B32: =B31+1 -> 3 | C32: 0 | D32: Плиты камышитовые (200 кг/м3)
B33: =B32+1 -> 4 | C33: 0 | D33: Железобетон
B34: =B33+1 -> 5 | C34: 0 | D34: Пенополистирол (40 кг/м3)
B35: =B34+1 -> 6 | C35: 0 | D35: Воздушная прослойка
B36: R= | C36: =1/$H$6+0.001*C30/VLOOKUP(D30,'СНиП II-3-79'!$C$5:$D$207,2,FALSE)+0.001*C31/VLOOKUP(D31,'СНиП II-3-79'!$C$5:$D$207,2,FALSE)+0.001*C32/VLOOKUP(D32,'СНиП II-3-79'!$C$5:$D$207,2,FALSE)+0.001*C33/VLOOKUP(D33,'СНиП II-3-79'!$C$5:$D$207,2,FALSE)+0.001*C34/VLOOKUP(D34,'СНиП II-3-79'!$C$5:$D$207,2,FALSE)+VLOOKUP(C35,Коэффициенты!$B$25:$C$32,2,FALSE)+1/$H$5 -> 2.6780788 | D36: м2 оС/Вт | E36: ≥ 3,6 по ГСОП
B38: Сопротивление теплопередаче дверей/ворот R, м2 оС/Вт
B39: Тип дверей/ворот | D39: Двойные двери без тамбура
B40: № слоя | C40: Толщина, мм | D40: Наименование материала
B41: 1 | C41: 40 | D41: Пенополистирол (40 кг/м3)
B42: =B41+1 -> 2 | C42: 20 | D42: Фанера клееная
B43: R= | C43: =1/$H$6+0.001*C41/VLOOKUP(D41,'СНиП II-3-79'!$C$5:$D$207,2,FALSE)+0.001*C42/VLOOKUP(D42,'СНиП II-3-79'!$C$5:$D$207,2,FALSE)+1/$H$5 -> 1.2738856 | D43: м2 оС/Вт
B45: Сопротивление теплопередаче полов по зонам шириной 2 м
B46: № слоя | C46: Толщина, мм | D46: Наименование материала
B47: 1 | C47: 200 | D47: Бетон на гравии или щебне из природного камня
B48: =B47+1 -> 2 | C48: 30 | D48: Пенополистирол (40 кг/м3)
B49: =B48+1 -> 3 | C49: 0 | D49: Сосна и ель поперек волокон
B50: =B49+1 -> 4 | C50: 0 | D50: Фанера клееная
B51: =B50+1 -> 5 | C51: 0
B52: =B51+1 -> 6 | C52: 0 | D52: Воздушная прослойка
B53: R= | C53: =0.001*C47/VLOOKUP(D47,'СНиП II-3-79'!$C$5:$D$207,2,FALSE)+0.001*C48/VLOOKUP(D48,'СНиП II-3-79'!$C$5:$D$207,2,FALSE)+0.001*C49/VLOOKUP(D49,'СНиП II-3-79'!$C$5:$D$207,2,FALSE)+0.001*C50/VLOOKUP(D50,'СНиП II-3-79'!$C$5:$D$207,2,FALSE)+0.001*C51/VLOOKUP(D51,'СНиП II-3-79'!$C$5:$D$207,2,FALSE)+VLOOKUP(C52,Коэффициенты!$B$25:$C$32,2,FALSE) -> 0.84664985 | D53: м2 оС/Вт
B55: № зоны | C55: R, м2 оС/Вт
B56: 1 | C56: =2.1+C53 -> 2.9466498 | E56: ≥ 3,6 по ГСОП
B57: 2 | C57: =4.3+C53 -> 5.1466498
B58: 3 | C58: =8.6+C53 -> 9.4466498
B59: 4 | C59: =14.2+C53 -> 15.04665
B61: Оконные переплеты 1-го типа | E61: Двухкамерный стеклопакет с межстек. расст. 12 мм
B62: Оконные переплеты 2-го типа | E62: Двухкамерный стеклопакет с межстек. расст. 12 мм
B64: Внутренняя температура tв, оС | E64: 22
B65: Наружная температура tн, оС | E65: -22 | G65: нар. ст. 1 | H65: =C16 -> 2.1498776 | I65: окно 1 | J65: =VLOOKUP($E$61,Коэффициенты!$B$3:$C$11,2,FALSE) -> 0.54
B66: Высота здания Hзд , м | E66: 3 | G66: нар. ст. 2 | H66: =C26 -> 0.16494253 | I66: окно 2 | J66: =VLOOKUP($E$62,Коэффициенты!$B$3:$C$11,2,FALSE) -> 0.54
B68: Расчет теплопотерь помещений Q = (tв-tн)·(1+∑β)·n·A / R , Вт
B69: № пом. | C69: Характеристика ограждения | F69: R, | G69: (tв-tн)·n, | H69: Добавка | I69: ∑Q, Вт
C70: наименов. | D70: ориентация | E70: S, м2 | F70: м2 оС/Вт | G70: оС
B71: 1 | C71: нар. ст. 1 | D71: С | E71: 0 | F71: =VLOOKUP(C71,$G$65:$H$66,2,FALSE) -> 2.1498776 | G71: =$E$64-$E$65 -> 44 | H71: =VLOOKUP(D71,Коэффициенты!$E$5:$F$12,2,FALSE) -> 0.1 | I71: =G71*(1+H71)*E71/F71 -> 0
C72: нар. ст. 1 | D72: С | E72: 0 | F72: =VLOOKUP(C72,$G$65:$H$66,2,FALSE) -> 2.1498776 | G72: =$E$64-$E$65 -> 44 | H72: =VLOOKUP(D72,Коэффициенты!$E$5:$F$12,2,FALSE) -> 0.1 | I72: =G72*(1+H72)*E72/F72 -> 0
C73: нар. дв. | D73: С | E73: 0 | F73: =$C$43 -> 1.2738856 | G73: =$E$64-$E$65 -> 44 | H73: =VLOOKUP(D73,Коэффициенты!$E$5:$F$12,2,FALSE)+$E$66*VLOOKUP($D$39,Коэффициенты!$B$14:$C$20,2,FALSE) -> 1.12 | I73: =G73*(1+H73)*E73/F73 -> 0
C74: окно 1 | D74: С | E74: 0 | F74: =VLOOKUP(C74,$I$65:$J$66,2,FALSE) -> 0.54 | G74: =$E$64-$E$65 -> 44 | H74: =VLOOKUP(D74,Коэффициенты!$E$5:$F$12,2,FALSE) -> 0.1 | I74: =G74*(1+H74)*E74/F74 -> 0
C75: потолок | D75: - | E75: 0 | F75: =$C$36 -> 2.6780788 | G75: =($E$64-$E$65)*0.9 -> 39.6 | H75: - | I75: =G75*E75/F75 -> 0
C76: пол 1 | D76: - | E76: 0 | F76: =$C$56 -> 2.9466498 | G76: =$E$64-$E$65 -> 44 | H76: - | I76: =G76*E76/F76 -> 0
C77: пол 2 | D77: - | E77: 0 | F77: =$C$57 -> 5.1466498 | G77: =$E$64-$E$65 -> 44 | H77: - | I77: =G77*E77/F77 -> 0
C78: пол 3 | D78: - | E78: 0 | F78: =$C$58 -> 9.4466498 | G78: =$E$64-$E$65 -> 44 | H78: - | I78: =G78*E78/F78 -> 0
C79: пол 4 | D79: - | E79: 0 | F79: =$C$59 -> 15.04665 | G79: =$E$64-$E$65 -> 44 | H79: - | I79: =G79*E79/F79 -> 0
B80: ∑Q1, Вт | I80: =SUM(I71:I79) -> 0
B81: =B71+1 -> 2 | C81: нар. ст. 1 | D81: С | E81: 0 | F81: =VLOOKUP(C81,$G$65:$H$66,2,FALSE) -> 2.1498776 | G81: =$E$64-$E$65 -> 44 | H81: =VLOOKUP(D81,Коэффициенты!$E$5:$F$12,2,FALSE) -> 0.1 | I81: =G81*(1+H81)*E81/F81 -> 0
C82: нар. ст. 1 | D82: С | E82: 0 | F82: =VLOOKUP(C82,$G$65:$H$66,2,FALSE) -> 2.1498776 | G82: =$E$64-$E$65 -> 44 | H82: =VLOOKUP(D82,Коэффициенты!$E$5:$F$12,2,FALSE) -> 0.1 | I82: =G82*(1+H82)*E82/F82 -> 0
C83: нар. дв. | D83: С | E83: 0 | F83: =$C$43 -> 1.2738856 | G83: =$E$64-$E$65 -> 44 | H83: =VLOOKUP(D83,Коэффициенты!$E$5:$F$12,2,FALSE)+$E$66*VLOOKUP($D$39,Коэффициенты!$B$14:$C$20,2,FALSE) -> 1.12 | I83: =G83*(1+H83)*E83/F83 -> 0
C84: окно 1 | D84: С | E84: 0 | F84: =VLOOKUP(C84,$I$65:$J$66,2,FALSE) -> 0.54 | G84: =$E$64-$E$65 -> 44 | H84: =VLOOKUP(D84,Коэффициенты!$E$5:$F$12,2,FALSE) -> 0.1 | I84: =G84*(1+H84)*E84/F84 -> 0
C85: потолок | D85: - | E85: 0 | F85: =$C$36 -> 2.6780788 | G85: =($E$64-$E$65)*0.9 -> 39.6 | H85: - | I85: =G85*E85/F85 -> 0
C86: пол 1 | D86: - | E86: 0 | F86: =$C$56 -> 2.9466498 | G86: =$E$64-$E$65 -> 44 | H86: - | I86: =G86*E86/F86 -> 0
C87: пол 2 | D87: - | E87: 0 | F87: =$C$57 -> 5.1466498 | G87: =$E$64-$E$65 -> 44 | H87: - | I87: =G87*E87/F87 -> 0
C88: пол 3 | D88: - | E88: 0 | F88: =$C$58 -> 9.4466498 | G88: =$E$64-$E$65 -> 44 | H88: - | I88: =G88*E88/F88 -> 0
C89: пол 4 | D89: - | E89: 0 | F89: =$C$59 -> 15.04665 | G89: =$E$64-$E$65 -> 44 | H89: - | I89: =G89*E89/F89 -> 0
B90: ∑Q1, Вт | I90: =SUM(I81:I89) -> 0
B91: =B81+1 -> 3 | C91: нар. ст. 1 | D91: С | E91: 0 | F91: =VLOOKUP(C91,$G$65:$H$66,2,FALSE) -> 2.1498776 | G91: =$E$64-$E$65 -> 44 | H91: =VLOOKUP(D91,Коэффициенты!$E$5:$F$12,2,FALSE) -> 0.1 | I91: =G91*(1+H91)*E91/F91 -> 0
C92: нар. ст. 1 | D92: С | E92: 0 | F92: =VLOOKUP(C92,$G$65:$H$66,2,FALSE) -> 2.1498776 | G92: =$E$64-$E$65 -> 44 | H92: =VLOOKUP(D92,Коэффициенты!$E$5:$F$12,2,FALSE) -> 0.1 | I92: =G92*(1+H92)*E92/F92 -> 0
C93: нар. дв. | D93: С | E93: 0 | F93: =$C$43 -> 1.2738856 | G93: =$E$64-$E$65 -> 44 | H93: =VLOOKUP(D93,Коэффициенты!$E$5:$F$12,2,FALSE)+$E$66*VLOOKUP($D$39,Коэффициенты!$B$14:$C$20,2,FALSE) -> 1.12 | I93: =G93*(1+H93)*E93/F93 -> 0
C94: окно 1 | D94: С | E94: 0 | F94: =VLOOKUP(C94,$I$65:$J$66,2,FALSE) -> 0.54 | G94: =$E$64-$E$65 -> 44 | H94: =VLOOKUP(D94,Коэффициенты!$E$5:$F$12,2,FALSE) -> 0.1 | I94: =G94*(1+H94)*E94/F94 -> 0
C95: потолок | E95: 0 | F95: =$C$36 -> 2.6780788 | G95: =($E$64-$E$65)*0.9 -> 39.6 | H95: - | I95: =G95*E95/F95 -> 0
C96: пол 1 | D96: - | E96: 0 | F96: =$C$56 -> 2.9466498 | G96: =$E$64-$E$65 -> 44 | H96: - | I96: =G96*E96/F96 -> 0
C97: пол 2 | D97: - | E97: 0 | F97: =$C$57 -> 5.1466498 | G97: =$E$64-$E$65 -> 44 | H97: - | I97: =G97*E97/F97 -> 0
C98: пол 3 | D98: - | E98: 0 | F98: =$C$58 -> 9.4466498 | G98: =$E$64-$E$65 -> 44 | H98: - | I98: =G98*E98/F98 -> 0
C99: пол 4 | D99: - | E99: 0 | F99: =$C$59 -> 15.04665 | G99: =$E$64-$E$65 -> 44 | H99: - | I99: =G99*E99/F99 -> 0
B100: ∑Q1, Вт | I100: =SUM(I91:I99) -> 0
B101: =B91+1 -> 4 | C101: нар. ст. 1 | D101: С | E101: 0 | F101: =VLOOKUP(C101,$G$65:$H$66,2,FALSE) -> 2.1498776 | G101: =$E$64-$E$65 -> 44 | H101: =VLOOKUP(D101,Коэффициенты!$E$5:$F$12,2,FALSE) -> 0.1 | I101: =G101*(1+H101)*E101/F101 -> 0
C102: нар. ст. 1 | D102: С | E102: 0 | F102: =VLOOKUP(C102,$G$65:$H$66,2,FALSE) -> 2.1498776 | G102: =$E$64-$E$65 -> 44 | H102: =VLOOKUP(D102,Коэффициенты!$E$5:$F$12,2,FALSE) -> 0.1 | I102: =G102*(1+H102)*E102/F102 -> 0
C103: нар. дв. | D103: С | E103: 0 | F103: =$C$43 -> 1.2738856 | G103: =$E$64-$E$65 -> 44 | H103: =VLOOKUP(D103,Коэффициенты!$E$5:$F$12,2,FALSE)+$E$66*VLOOKUP($D$39,Коэффициенты!$B$14:$C$20,2,FALSE) -> 1.12 | I103: =G103*(1+H103)*E103/F103 -> 0
C104: окно 1 | D104: С | E104: 0 | F104: =VLOOKUP(C104,$I$65:$J$66,2,FALSE) -> 0.54 | G104: =$E$64-$E$65 -> 44 | H104: =VLOOKUP(D104,Коэффициенты!$E$5:$F$12,2,FALSE) -> 0.1 | I104: =G104*(1+H104)*E104/F104 -> 0
C105: потолок | D105: - | E105: 0 | F105: =$C$36 -> 2.6780788 | G105: =($E$64-$E$65)*0.9 -> 39.6 | H105: - | I105: =G105*E105/F105 -> 0
C106: пол 1 | D106: - | E106: 0 | F106: =$C$56 -> 2.9466498 | G106: =$E$64-$E$65 -> 44 | H106: - | I106: =G106*E106/F106 -> 0
C107: пол 2 | D107: - | E107: 0 | F107: =$C$57 -> 5.1466498 | G107: =$E$64-$E$65 -> 44 | H107: - | I107: =G107*E107/F107 -> 0
C108: пол 3 | D108: - | E108: 0 | F108: =$C$58 -> 9.4466498 | G108: =$E$64-$E$65 -> 44 | H108: - | I108: =G108*E108/F108 -> 0
C109: пол 4 | D109: - | E109: 0 | F109: =$C$59 -> 15.04665 | G109: =$E$64-$E$65 -> 44 | H109: - | I109: =G109*E109/F109 -> 0
B110: ∑Q1, Вт | I110: =SUM(I101:I109) -> 0
B111: =B101+1 -> 5 | C111: нар. ст. 1 | D111: С | E111: 0 | F111: =VLOOKUP(C111,$G$65:$H$66,2,FALSE) -> 2.1498776 | G111: =$E$64-$E$65 -> 44 | H111: =VLOOKUP(D111,Коэффициенты!$E$5:$F$12,2,FALSE) -> 0.1 | I111: =G111*(1+H111)*E111/F111 -> 0
...

Sheet Конденсация
B2: Расчет конденсации влаги на наружных ограждениях
B3: Источник: п.2,6* и п. 2.11* СНиП II-3-79*
B5: Внутренняя температура tв, оС | E5: =Расчет!E64 -> 22
B6: Наружная температура tн, оС | E6: =Расчет!E65 -> -22
B7: Относительная влажность φ, % | E7: 60
B9: Наименование ограждения | G9: Стены 1-го типа | H9: Стены 2-го типа | I9: Потолок
B10: Сопротивление теплопередаче ограждения Rо, м2 оС/Вт | G10: =Расчет!C16 -> 2.1498776 | H10: =Расчет!C26 -> 0.16494253 | I10: =Расчет!C36 -> 2.6780788
B11: Температура внутренней поверхности tпов, оС | G11: =$E$5-($E$5-$E$6)/(G10*Расчет!$H$6) -> 19.647554 | H11: =$E$5-($E$5-$E$6)/(H10*Расчет!$H$6) -> -8.6620209 | I11: =$E$5-0.9*($E$5-$E$6)/(I10*Расчет!$H$6) -> 20.300377
B12: tпов=tв-n×(tв-tн)/(Rо×αв)
B13: Температура точки росы tр=(273+tв)×(φ/100)0,058-273, оС | G13: =(273+$E$5)*POWER($E$7/100,0.058)-273 -> 13.387981 | H13: =(273+$E$5)*POWER($E$7/100,0.058)-273 -> 13.387981 | I13: =(273+$E$5)*POWER($E$7/100,0.058)-273 -> 13.387981

Sheet Коэффициенты
B2: Табл. 1 Сопротивление теплопередаче окон R, м2 оС/Вт | E2: Табл. 3 Добавки
B3: Одинарное остекление | C3: 0.16 | E3: на ориентацию
B4: Двойное остекление в спаренных переплетах | C4: 0.4 | E4: Ориентация | F4: Добавка
B5: Двойное остекление в раздельных переплетах | C5: 0.44 | E5: С | F5: 0.1
B6: Тройное ост-ние в раздельноспаренных переплетах | C6: 0.55 | E6: СВ | F6: 0.1
B7: Блоки стеклянные пустотные 194х194х98 | C7: 0.31 | E7: В | F7: 0.1
B8: Однокамерный стеклопакет | C8: 0.38 | E8: ЮВ | F8: 0.05
B9: Двухкамерный стеклопакет с межстек. расст. 12 мм | C9: 0.54 | E9: Ю | F9: 0
B10: Двухкамерный стеклопакет с селективн. покрытием | C10: 0.65 | E10: ЮЗ | F10: 0
B11: Два однокам. стеклопакета в раздельн. переплетах | C11: 0.74 | E11: З | F11: 0.05
E12: СЗ | F12: 0.1
B13: Табл. 2 Добавка на двери β
C14: 0
B15: Тройные двери с 2 тамбурами | C15: 0.2
B16: Одинарные двери без тамбура | C16: 0.22
B17: Двойные двери с тамбуром | C17: 0.27
B18: Двойные двери без тамбура | C18: 0.34
B19: Наружные ворота с тамбуром | C19: 1
B20: Наружные ворота без тамбура | C20: 3
B22: Табл.4 Термическое сопротивление замкнутой воздушной прослойки Rв.п, м2 × °С/Вт
B23: При оклейке поверхности прослойки фольгой Rв.п. следует увеличивать в 2 раза.
B24: Толщина воздушной прослойки, мм | C24: Rв.п
B25: 0 | C25: 0
B26: 10 | C26: 0.15
B27: 20 | C27: 0.15
B28: 30 | C28: 0.16
B29: 50 | C29: 0.17
B30: 100 | C30: 0.18
B31: 150 | C31: 0.18
B32: 200-300 | C32: 0.19

Sheet СНиП II-3-79
B2: Теплотехнические показатели строительных материалов по СНиП II-3-79*
B3: Зона влажности - сухая, режим помещения - нормальный, параметры А
B4: № п/п | C4: Материал | D4: Коэффициент теплопроводности λ , Вт/(м ×°С)
B5: 0 | D5: 1000
B6: 1 | C6: Железобетон | D6: 1.92
B7: =B6+1 -> 2 | C7: Бетон на гравии или щебне из природного камня | D7: 1.74
B8: =B7+1 -> 3 | C8: Туфобетон (1800 кг/м3) | D8: 0.87
B9: =B8+1 -> 4 | C9: Туфобетон (1600 кг/м3) | D9: 0.7
B10: =B9+1 -> 5 | C10: Туфобетон (1400 кг/м3) | D10: 0.52
B11: =B10+1 -> 6 | C11: Туфобетон (1200 кг/м3) | D11: 0.41
B12: =B11+1 -> 7 | C12: Пемзобетон (1600 кг/м3) | D12: 0.62
B13: =B12+1 -> 8 | C13: Пемзобетон (1400 кг/м3) | D13: 0.49
B14: =B13+1 -> 9 | C14: Пемзобетон (1200 кг/м3) | D14: 0.4
B15: =B14+1 -> 10 | C15: Пемзобетон (1000 кг/м3) | D15: 0.3
B16: =B15+1 -> 11 | C16: Пемзобетон (800 кг/м3) | D16: 0.22
B17: =B16+1 -> 12 | C17: Бетон на вулканическом шлаке (1600 кг/м3) | D17: 0.64
B18: =B17+1 -> 13 | C18: Бетон на вулканическом шлаке (1400 кг/м3) | D18: 0.52
... B207: =B206+1 -> 202 | C207: Стекло оконное | D207: 0.76
B208: 203 | C208: Полистеролцементная плита | D208: 0.052
B209: 204 | C209: Пеноплекс | D209: 0.037
C210: Паротерм | D210: 0.15
