Workbook
Name двери: Коэффициенты!#REF!
Name дверь: Коэффициенты!$B$14:$B$20
Name материал: 'СНиП II-3-79'!$C$5:$C$207
Name окно: Коэффициенты!$B$3:$B$11
Name окно2: Расчет!$I$65:$I$66
Name ориентация: Коэффициенты!$E$5:$E$12
Name прослойка: Коэффициенты!$B$25:$B$32
Name стена: Расчет!$G$65:$G$66

Sheet Расчет
B2: Расчет потерь теплоты через ограждающие конструкции помещения
B3: Источник: СНиП 2.04.05-91* приложение № 9
B5: Коэффициент теплоотдачи наружной поверхности αн, Вт/(м×оС) | H5: 20
B6: Коэффициент теплоотдачи внутренней поверхности αв, Вт/(м×оС) | H6: 8.7
B8: Сопротивление теплопередаче стены первого типа R, м2 оС/Вт
B9: № слоя | C9: Толщина, мм | D9: Наименование материала
B10: 1 | C10: 125 | D10: Кладка из кирпича глиняного обыкновенного на цементнопесчаном растворе
B11: =B10+1 -> 2 | C11: 360 | D11: Газо- и пенобетон (600 кг/м3)
B12: =B11+1 -> 3 | C12: 0 | D12: Маты минераловатные прошивные на синтетическом связующем (75 кг/м3)
B13: =B12+1 -> 4 | C13: 0 | D13: Пенопласт (100 кг/м3)
B14: =B13+1 -> 5 | C14: 0 | D14: Известково-песчаный раствор
B15: =B14+1 -> 6 | C15: 50 | D15: Воздушная прослойка
B16: R= | C16: =1/$H$6+0.001*C10/VLOOKUP(D10,'СНиП II-3-79'!$C$5:$D$207,2,FALSE)+0.001*C11/VLOOKUP(D11,'СНиП II-3-79'!$C$5:$D$207,2,FALSE)+0.001*C12/VLOOKUP(D12,'СНиП II-3-79'!$C$5:$D$207,2,FALSE)+0.001*C13/VLOOKUP(D13,'СНиП II-3-79'!$C$5:$D$207,2,FALSE)+0.001*C14/VLOOKUP(D14,'СНиП II-3-79'!$C$5:$D$207,2,FALSE)+VLOOKUP(C15,Коэффициенты!$B$25:$C$32,2,FALSE)+1/$H$5 -> 2.1498776 | D16: м2 оС/Вт | E16: ≥ 2,7 по ГСОП
B18: Сопротивление теплопередаче стены второго типа R, м2 оС/Вт
B19: № слоя | C19: Толщина, мм | D19: Наименование материала
B20: 1 | C20: 0
B21: =B20+1 -> 2 | C21: 0
B22: =B21+1 -> 3 | C22: 0
B23: =B22+1 -> 4 | C23: 0
B24: =B23+1 -> 5 | C24: 0
B25: =B24+1 -> 6 | C25: 0 | D25: Воздушная прослойка
B26: R= | C26: =1/$H$6+0.001*C20/VLOOKUP(D20,'СНиП II-3-79'!$C$5:$D$207,2,FALSE)+0.001*C21/VLOOKUP(D21,'СНиП II-3-79'!$C$5:$D$207,2,FALSE)+0.001*C22/VLOOKUP(D22,'СНиП II-3-79'!$C$5:$D$207,2,FALSE)+0.001*C23/VLOOKUP(D23,'СНиП II-3-79'!$C$5:$D$207,2,FALSE)+0.001*C24/VLOOKUP(D24,'СНиП II-3-79'!$C$5:$D$207,2,FALSE)+VLOOKUP(C25,Коэффициенты!$B$25:$C$32,2,FALSE)+1/$H$5 -> 0.16494253 | D26: м2 оС/Вт | E26: ≥ 2,7 по ГСОП
B28: Сопротивление теплопередаче потолка R, м2 оС/Вт
B29: № слоя | C29: Толщина, мм | D29: Наименование материала
B30: 1 | C30: 30 | D30: Сосна и ель поперек волокон
B31: =B30+1 -> 2 | C31: 200 | D31: Плиты минераловатные на синтетическом и битумном связующих (300 кг/м3)
B32: =B31+1 -> 3 | C32: 0 | D32: Плиты камышитовые (200 кг/м3)
B33: =B32+1 -> 4 | C33: 0 | D33: Железобетон
B34: =B33+1 -> 5 | C34: 0 | D34: Пенополистирол (40 кг/м3)
B35: =B34+1 -> 6 | C35: 0 | D35: Воздушная прослойка
B36: R= | C36: =1/$H$6+0.001*C30/VLOOKUP(D30,'СНиП II-3-79'!$C$5:$D$207,2,FALSE)+0.001*C31/VLOOKUP(D31,'СНиП II-3-79'!$C$5:$D$207,2,FALSE)+0.001*C32/VLOOKUP(D32,'СНиП II-3-79'!$C$5:$D$207,2,FALSE)+0.001*C33/VLOOKUP(D33,'СНиП II-3-79'!$C$5:$D$207,2,FALSE)+0.001*C34/VLOOKUP(D34,'СНиП II-3-79'!$C$5:$D$207,2,FALSE)+VLOOKUP(C35,Коэффициенты!$B$25:$C$32,2,FALSE)+1/$H$5 -> 2.6780788 | D36: м2 оС/Вт | E36: ≥ 3,6 по ГСОП
B38: Сопротивление теплопередаче дверей/ворот R, м2 оС/Вт
B39: Тип дверей/ворот | D39: Двойные двери без тамбура
B40: № слоя | C40: Толщина, мм | D40: Наименование материала
B41: 1 | C41: 40 | D41: Пенополистирол (40 кг/м3)
B42: =B41+1 -> 2 | C42: 20 | D42: Фанера клееная
B43: R= | C43: =1/$H$6+0.001*C41/VLOOKUP(D41,'СНиП II-3-79'!$C$5:$D$207,2,FALSE)+0.001*C42/VLOOKUP(D42,'СНиП II-3-79'!$C$5:$D$207,2,FALSE)+1/$H$5 -> 1.2738856 | D43: м2 оС/Вт
B45: Сопротивление теплопередаче полов по зонам шириной 2 м
B46: № слоя | C46: Толщина, мм | D46: Наименование материала
B47: 1 | C47: 200 | D47: Бетон на гравии или щебне из природного камня
...

Sheet Конденсация
B2: Расчет конденсации влаги на наружных ограждениях
B3: Источник: п.2,6* и п. 2.11* СНиП II-3-79*
B5: Внутренняя температура tв, оС | E5: =Расчет!E64 -> 22
B6: Наружная температура tн, оС | E6: =Расчет!E65 -> -22
B7: Относительная влажность φ, % | E7: 60
B9: Наименование ограждения | G9: Стены 1-го типа | H9: Стены 2-го типа | I9: Потолок
B10: Сопротивление теплопередаче ограждения Rо, м2 оС/Вт | G10: =Расчет!C16 -> 2.1498776 | H10: =Расчет!C26 -> 0.16494253 | I10: =Расчет!C36 -> 2.6780788
B11: Температура внутренней поверхности tпов, оС | G11: =$E$5-($E$5-$E$6)/(G10*Расчет!$H$6) -> 19.647554 | H11: =$E$5-($E$5-$E$6)/(H10*Расчет!$H$6) -> -8.6620209 | I11: =$E$5-0.9*($E$5-$E$6)/(I10*Расчет!$H$6) -> 20.300377
B12: tпов=tв-n×(tв-tн)/(Rо×αв)
B13: Температура точки росы tр=(273+tв)×(φ/100)0,058-273, оС | G13: =(273+$E$5)*POWER($E$7/100,0.058)-273 -> 13.387981 | H13: =(273+$E$5)*POWER($E$7/100,0.058)-273 -> 13.387981 | I13: =(273+$E$5)*POWER($E$7/100,0.058)-273 -> 13.387981

Sheet Коэффициенты
B2: Табл. 1 Сопротивление теплопередаче окон R, м2 оС/Вт | E2: Табл. 3 Добавки
B3: Одинарное остекление | C3: 0.16 | E3: на ориентацию
B4: Двойное остекление в спаренных переплетах | C4: 0.4 | E4: Ориентация | F4: Добавка
B5: Двойное остекление в раздельных переплетах | C5: 0.44 | E5: С | F5: 0.1
B6: Тройное ост-ние в раздельноспаренных переплетах | C6: 0.55 | E6: СВ | F6: 0.1
B7: Блоки стеклянные пустотные 194х194х98 | C7: 0.31 | E7: В | F7: 0.1
B8: Однокамерный стеклопакет | C8: 0.38 | E8: ЮВ | F8: 0.05
B9: Двухкамерный стеклопакет с межстек. расст. 12 мм | C9: 0.54 | E9: Ю | F9: 0
B10: Двухкамерный стеклопакет с селективн. покрытием | C10: 0.65 | E10: ЮЗ | F10: 0
B11: Два однокам. стеклопакета в раздельн. переплетах | C11: 0.74 | E11: З | F11: 0.05
E12: СЗ | F12: 0.1
B13: Табл. 2 Добавка на двери β
C14: 0
B15: Тройные двери с 2 тамбурами | C15: 0.2
B16: Одинарные двери без тамбура | C16: 0.22
B17: Двойные двери с тамбуром | C17: 0.27
B18: Двойные двери без тамбура | C18: 0.34
B19: Наружные ворота с тамбуром | C19: 1
B20: Наружные ворота без тамбура | C20: 3
B22: Табл.4 Термическое сопротивление замкнутой воздушной прослойки Rв.п, м2 × °С/Вт
B23: При оклейке поверхности прослойки фольгой Rв.п. следует увеличивать в 2 раза.
B24: Толщина воздушной прослойки, мм | C24: Rв.п
B25: 0 | C25: 0
B26: 10 | C26: 0.15
B27: 20 | C27: 0.15
B28: 30 | C28: 0.16
B29: 50 | C29: 0.17
B30: 100 | C30: 0.18
B31: 150 | C31: 0.18
B32: 200-300 | C32: 0.19

Sheet СНиП II-3-79
B2: Теплотехнические показатели строительных материалов по СНиП II-3-79*
B3: Зона влажности - сухая, режим помещения - нормальный, параметры А
B4: № п/п | C4: Материал | D4: Коэффициент теплопроводности λ , Вт/(м ×°С)
B5: 0 | D5: 1000
B6: 1 | C6: Железобетон | D6: 1.92
B7: =B6+1 -> 2 | C7: Бетон на гравии или щебне из природного камня | D7: 1.74
B8: =B7+1 -> 3 | C8: Туфобетон (1800 кг/м3) | D8: 0.87
B9: =B8+1 -> 4 | C9: Туфобетон (1600 кг/м3) | D9: 0.7
B10: =B9+1 -> 5 | C10: Туфобетон (1400 кг/м3) | D10: 0.52
B11: =B10+1 -> 6 | C11: Туфобетон (1200 кг/м3) | D11: 0.41
B12: =B11+1 -> 7 | C12: Пемзобетон (1600 кг/м3) | D12: 0.62
B13: =B12+1 -> 8 | C13: Пемзобетон (1400 кг/м3) | D13: 0.49
B14: =B13+1 -> 9 | C14: Пемзобетон (1200 кг/м3) | D14: 0.4
B15: =B14+1 -> 10 | C15: Пемзобетон (1000 кг/м3) | D15: 0.3
B16: =B15+1 -> 11 | C16: Пемзобетон (800 кг/м3) | D16: 0.22
B17: =B16+1 -> 12 | C17: Бетон на вулканическом шлаке (1600 кг/м3) | D17: 0.64
B18: =B17+1 -> 13 | C18: Бетон на вулканическом шлаке (1400 кг/м3) | D18: 0.52
... B207: =B206+1 -> 202 | C207: Стекло оконное | D207: 0.76
B208: 203 | C208: Полистеролцементная плита | D208: 0.052
B209: 204 | C209: Пеноплекс | D209: 0.037
C210: Паротерм | D210: 0.15
